BEGIN:VCALENDAR
VERSION:2.0
PRODID:-//Chelsea Hutchison Foundation - ECPv6.15.18//NONSGML v1.0//EN
CALSCALE:GREGORIAN
METHOD:PUBLISH
X-ORIGINAL-URL:https://chelseahutchisonfoundation.org
X-WR-CALDESC:Events for Chelsea Hutchison Foundation
REFRESH-INTERVAL;VALUE=DURATION:PT1H
X-Robots-Tag:noindex
X-PUBLISHED-TTL:PT1H
BEGIN:VTIMEZONE
TZID:America/New_York
BEGIN:DAYLIGHT
TZOFFSETFROM:-0500
TZOFFSETTO:-0400
TZNAME:EDT
DTSTART:20250309T070000
END:DAYLIGHT
BEGIN:STANDARD
TZOFFSETFROM:-0400
TZOFFSETTO:-0500
TZNAME:EST
DTSTART:20251102T060000
END:STANDARD
BEGIN:DAYLIGHT
TZOFFSETFROM:-0500
TZOFFSETTO:-0400
TZNAME:EDT
DTSTART:20260308T070000
END:DAYLIGHT
BEGIN:STANDARD
TZOFFSETFROM:-0400
TZOFFSETTO:-0500
TZNAME:EST
DTSTART:20261101T060000
END:STANDARD
BEGIN:DAYLIGHT
TZOFFSETFROM:-0500
TZOFFSETTO:-0400
TZNAME:EDT
DTSTART:20270314T070000
END:DAYLIGHT
BEGIN:STANDARD
TZOFFSETFROM:-0400
TZOFFSETTO:-0500
TZNAME:EST
DTSTART:20271107T060000
END:STANDARD
END:VTIMEZONE
BEGIN:VTIMEZONE
TZID:America/Denver
BEGIN:DAYLIGHT
TZOFFSETFROM:-0700
TZOFFSETTO:-0600
TZNAME:MDT
DTSTART:20250309T090000
END:DAYLIGHT
BEGIN:STANDARD
TZOFFSETFROM:-0600
TZOFFSETTO:-0700
TZNAME:MST
DTSTART:20251102T080000
END:STANDARD
BEGIN:DAYLIGHT
TZOFFSETFROM:-0700
TZOFFSETTO:-0600
TZNAME:MDT
DTSTART:20260308T090000
END:DAYLIGHT
BEGIN:STANDARD
TZOFFSETFROM:-0600
TZOFFSETTO:-0700
TZNAME:MST
DTSTART:20261101T080000
END:STANDARD
BEGIN:DAYLIGHT
TZOFFSETFROM:-0700
TZOFFSETTO:-0600
TZNAME:MDT
DTSTART:20270314T090000
END:DAYLIGHT
BEGIN:STANDARD
TZOFFSETFROM:-0600
TZOFFSETTO:-0700
TZNAME:MST
DTSTART:20271107T080000
END:STANDARD
END:VTIMEZONE
BEGIN:VEVENT
DTSTART;TZID=America/New_York:20260426T113000
DTEND;TZID=America/New_York:20260426T133000
DTSTAMP:20260421T043429
CREATED:20230208T230539Z
LAST-MODIFIED:20251118T221045Z
UID:3420-1777203000-1777210200@chelseahutchisonfoundation.org
SUMMARY:Chelsea's Bingo - Sunday Morning
DESCRIPTION:Join us every Sunday morning at 11:30 AM for Chelsea’s Bingo and win big.  Doors open at 9:30 AM\, games start at 11:30 AM. $2\,000 in bingo payouts every session. \nJoin “Chelsea’s Bingo” on facebook for updated information and special events.
URL:https://chelseahutchisonfoundation.org/event/chelseas-bingo-sunday-morning-3/
LOCATION:The Turn of the Century Bingo Hall\, 1921 South Havana Street\, Aurora\, 80014\, United States
CATEGORIES:Bingo
ATTACH;FMTTYPE=image/jpeg:https://chelseahutchisonfoundation.org/wp-content/uploads/2022/08/3289_image_273517860_5133091926714503_6519717539184709591_n.jpg
ORGANIZER;CN="The Chelsea Hutchison Foundation":MAILTO:info@ChelseaHutchisonFoundation.org
END:VEVENT
BEGIN:VEVENT
DTSTART;TZID=America/Denver:20260426T183000
DTEND;TZID=America/Denver:20260426T203000
DTSTAMP:20260421T043429
CREATED:20180101T231616Z
LAST-MODIFIED:20251118T220941Z
UID:1744-1777228200-1777235400@chelseahutchisonfoundation.org
SUMMARY:Chelsea's Bingo - Sunday Night
DESCRIPTION:Join us every Sunday night at 6:30 PM at Turn of the Century Bingo located at 1921 South Havana\, Aurora\, CO for Chelsea’s Bingo. $2000 in payouts each night ($150-$1000). The concession stand has wonderful\, very reasonably priced food\, so join us for dinner and some fun! Nightly drawings. \nJoin “Chelsea’s Bingo” on facebook for updated information and special events.
URL:https://chelseahutchisonfoundation.org/event/chelseas-sunday-bingo-2/
LOCATION:The Turn of the Century Bingo Hall\, 1921 South Havana Street\, Aurora\, 80014\, United States
CATEGORIES:Bingo
ATTACH;FMTTYPE=image/jpeg:https://chelseahutchisonfoundation.org/wp-content/uploads/2018/01/ChelseasBingoLogo.jpg
ORGANIZER;CN="The Chelsea Hutchison Foundation":MAILTO:info@ChelseaHutchisonFoundation.org
END:VEVENT
END:VCALENDAR