BEGIN:VCALENDAR
VERSION:2.0
PRODID:-//Chelsea Hutchison Foundation - ECPv6.15.18//NONSGML v1.0//EN
CALSCALE:GREGORIAN
METHOD:PUBLISH
X-ORIGINAL-URL:https://chelseahutchisonfoundation.org
X-WR-CALDESC:Events for Chelsea Hutchison Foundation
REFRESH-INTERVAL;VALUE=DURATION:PT1H
X-Robots-Tag:noindex
X-PUBLISHED-TTL:PT1H
BEGIN:VTIMEZONE
TZID:America/New_York
BEGIN:DAYLIGHT
TZOFFSETFROM:-0500
TZOFFSETTO:-0400
TZNAME:EDT
DTSTART:20250309T070000
END:DAYLIGHT
BEGIN:STANDARD
TZOFFSETFROM:-0400
TZOFFSETTO:-0500
TZNAME:EST
DTSTART:20251102T060000
END:STANDARD
BEGIN:DAYLIGHT
TZOFFSETFROM:-0500
TZOFFSETTO:-0400
TZNAME:EDT
DTSTART:20260308T070000
END:DAYLIGHT
BEGIN:STANDARD
TZOFFSETFROM:-0400
TZOFFSETTO:-0500
TZNAME:EST
DTSTART:20261101T060000
END:STANDARD
BEGIN:DAYLIGHT
TZOFFSETFROM:-0500
TZOFFSETTO:-0400
TZNAME:EDT
DTSTART:20270314T070000
END:DAYLIGHT
BEGIN:STANDARD
TZOFFSETFROM:-0400
TZOFFSETTO:-0500
TZNAME:EST
DTSTART:20271107T060000
END:STANDARD
END:VTIMEZONE
BEGIN:VTIMEZONE
TZID:America/Denver
BEGIN:DAYLIGHT
TZOFFSETFROM:-0700
TZOFFSETTO:-0600
TZNAME:MDT
DTSTART:20250309T090000
END:DAYLIGHT
BEGIN:STANDARD
TZOFFSETFROM:-0600
TZOFFSETTO:-0700
TZNAME:MST
DTSTART:20251102T080000
END:STANDARD
BEGIN:DAYLIGHT
TZOFFSETFROM:-0700
TZOFFSETTO:-0600
TZNAME:MDT
DTSTART:20260308T090000
END:DAYLIGHT
BEGIN:STANDARD
TZOFFSETFROM:-0600
TZOFFSETTO:-0700
TZNAME:MST
DTSTART:20261101T080000
END:STANDARD
BEGIN:DAYLIGHT
TZOFFSETFROM:-0700
TZOFFSETTO:-0600
TZNAME:MDT
DTSTART:20270314T090000
END:DAYLIGHT
BEGIN:STANDARD
TZOFFSETFROM:-0600
TZOFFSETTO:-0700
TZNAME:MST
DTSTART:20271107T080000
END:STANDARD
END:VTIMEZONE
BEGIN:VEVENT
DTSTART;TZID=America/New_York:20260201T113000
DTEND;TZID=America/New_York:20260201T133000
DTSTAMP:20260421T100648
CREATED:20230208T231658Z
LAST-MODIFIED:20251118T224017Z
UID:3428-1769945400-1769952600@chelseahutchisonfoundation.org
SUMMARY:Chelsea's Bingo - Sunday Morning
DESCRIPTION:Join us every Sunday morning at 11:30 AM for Chelsea’s Bingo and win big.  Doors open at 9:30\, games start at 11:30. $2\,000 in bingo payouts every session. \nJoin “Chelsea’s Bingo” on facebook for updated information and special events.
URL:https://chelseahutchisonfoundation.org/event/chelseas-bingo-sunday-morning-10/
LOCATION:The Turn of the Century Bingo Hall\, 1921 South Havana Street\, Aurora\, 80014\, United States
CATEGORIES:Bingo
ATTACH;FMTTYPE=image/jpeg:https://chelseahutchisonfoundation.org/wp-content/uploads/2022/08/3289_image_273517860_5133091926714503_6519717539184709591_n.jpg
ORGANIZER;CN="The Chelsea Hutchison Foundation":MAILTO:info@ChelseaHutchisonFoundation.org
END:VEVENT
BEGIN:VEVENT
DTSTART;TZID=America/Denver:20260201T183000
DTEND;TZID=America/Denver:20260201T203000
DTSTAMP:20260421T100648
CREATED:20180101T233751Z
LAST-MODIFIED:20251118T223946Z
UID:1762-1769970600-1769977800@chelseahutchisonfoundation.org
SUMMARY:Chelsea's Bingo - Sunday Night
DESCRIPTION:Join us every Sunday night at 6:30 PM at Turn of the Century Bingo located at 1921 South Havana\, Aurora\, CO for Chelsea’s Bingo. $2000 in payouts each night ($100-$1000). The concession stand has wonderful\, very reasonably priced food\, so join us for dinner and some fun! Nightly drawings. \nJoin “Chelsea’s Bingo” on facebook for updated information and special events.
URL:https://chelseahutchisonfoundation.org/event/chelseas-sunday-bingo-8/
LOCATION:The Turn of the Century Bingo Hall\, 1921 South Havana Street\, Aurora\, 80014\, United States
CATEGORIES:Bingo
ATTACH;FMTTYPE=image/jpeg:https://chelseahutchisonfoundation.org/wp-content/uploads/2018/01/ChelseasBingoLogo.jpg
ORGANIZER;CN="The Chelsea Hutchison Foundation":MAILTO:info@ChelseaHutchisonFoundation.org
END:VEVENT
BEGIN:VEVENT
DTSTART;TZID=America/Denver:20260203T113000
DTEND;TZID=America/Denver:20260203T133000
DTSTAMP:20260421T100648
CREATED:20251118T231332Z
LAST-MODIFIED:20251118T231332Z
UID:3653-1770118200-1770125400@chelseahutchisonfoundation.org
SUMMARY:Chelsea's Bingo - Tuesday Morning
DESCRIPTION:Join us every Tuesday morning at 11:30 AM for Chelsea’s Bingo and win big.  Doors open at 9:30\, games start at 11:30. $2\,000 in bingo payouts every session. \nJoin “Chelsea’s Bingo” on facebook for updated information and special events.
URL:https://chelseahutchisonfoundation.org/event/chelseas-bingo-tuesday-morning-9/
LOCATION:The Turn of the Century Bingo Hall\, 1921 South Havana Street\, Aurora\, 80014\, United States
CATEGORIES:Bingo
ATTACH;FMTTYPE=image/jpeg:https://chelseahutchisonfoundation.org/wp-content/uploads/2025/11/Chelseas-Bingo-logo.jpg
ORGANIZER;CN="The Chelsea Hutchison Foundation":MAILTO:info@ChelseaHutchisonFoundation.org
END:VEVENT
BEGIN:VEVENT
DTSTART;TZID=America/New_York:20260208T113000
DTEND;TZID=America/New_York:20260208T133000
DTSTAMP:20260421T100648
CREATED:20230208T231340Z
LAST-MODIFIED:20251118T223919Z
UID:3426-1770550200-1770557400@chelseahutchisonfoundation.org
SUMMARY:Chelsea's Bingo - Sunday Morning
DESCRIPTION:Join us every Sunday morning at 11:30 AM for Chelsea’s Bingo and win big.  Doors open at 9:30\, games start at 11:30. $2\,000 in bingo payouts every session. \nJoin “Chelsea’s Bingo” on facebook for updated information and special events.
URL:https://chelseahutchisonfoundation.org/event/chelseas-bingo-sunday-morning-8/
LOCATION:The Turn of the Century Bingo Hall\, 1921 South Havana Street\, Aurora\, 80014\, United States
CATEGORIES:Bingo
ATTACH;FMTTYPE=image/jpeg:https://chelseahutchisonfoundation.org/wp-content/uploads/2022/08/3289_image_273517860_5133091926714503_6519717539184709591_n.jpg
ORGANIZER;CN="The Chelsea Hutchison Foundation":MAILTO:info@ChelseaHutchisonFoundation.org
END:VEVENT
BEGIN:VEVENT
DTSTART;TZID=America/Denver:20260208T183000
DTEND;TZID=America/Denver:20260208T203000
DTSTAMP:20260421T100648
CREATED:20180101T232809Z
LAST-MODIFIED:20251118T223846Z
UID:1753-1770575400-1770582600@chelseahutchisonfoundation.org
SUMMARY:Chelsea's Bingo - Sunday Night
DESCRIPTION:Join us every Sunday night at 6:30 PM at Turn of the Century Bingo located at 1921 South Havana\, Aurora\, CO for Chelsea’s Bingo. $2000 in payouts each night ($100-$1000). The concession stand has wonderful\, very reasonably priced food\, so join us for dinner and some fun! Nightly drawings. \nJoin “Chelsea’s Bingo” on facebook for updated information and special events.
URL:https://chelseahutchisonfoundation.org/event/chelseas-sunday-bingo-5/
LOCATION:The Turn of the Century Bingo Hall\, 1921 South Havana Street\, Aurora\, 80014\, United States
CATEGORIES:Bingo
ATTACH;FMTTYPE=image/jpeg:https://chelseahutchisonfoundation.org/wp-content/uploads/2018/01/ChelseasBingoLogo.jpg
ORGANIZER;CN="The Chelsea Hutchison Foundation":MAILTO:info@ChelseaHutchisonFoundation.org
END:VEVENT
BEGIN:VEVENT
DTSTART;TZID=America/Denver:20260210T113000
DTEND;TZID=America/Denver:20260210T133000
DTSTAMP:20260421T100648
CREATED:20251118T231442Z
LAST-MODIFIED:20251118T231442Z
UID:3654-1770723000-1770730200@chelseahutchisonfoundation.org
SUMMARY:Chelsea's Bingo - Tuesday Morning
DESCRIPTION:Join us every Tuesday morning at 11:30 AM for Chelsea’s Bingo and win big.  Doors open at 9:30\, games start at 11:30. $2\,000 in bingo payouts every session. \nJoin “Chelsea’s Bingo” on facebook for updated information and special events.
URL:https://chelseahutchisonfoundation.org/event/chelseas-bingo-tuesday-morning-10/
LOCATION:The Turn of the Century Bingo Hall\, 1921 South Havana Street\, Aurora\, 80014\, United States
CATEGORIES:Bingo
ATTACH;FMTTYPE=image/jpeg:https://chelseahutchisonfoundation.org/wp-content/uploads/2025/11/Chelseas-Bingo-logo.jpg
ORGANIZER;CN="The Chelsea Hutchison Foundation":MAILTO:info@ChelseaHutchisonFoundation.org
END:VEVENT
BEGIN:VEVENT
DTSTART;TZID=America/New_York:20260215T113000
DTEND;TZID=America/New_York:20260215T133000
DTSTAMP:20260421T100648
CREATED:20220819T191215Z
LAST-MODIFIED:20251118T223748Z
UID:3343-1771155000-1771162200@chelseahutchisonfoundation.org
SUMMARY:Chelsea's Bingo - Sunday Morning
DESCRIPTION:Join us every Sunday morning at 11:30 AM for Chelsea’s Bingo and win big.  Doors open at 10:00 AM\, games start at 11:30 AM. $2\,000 in bingo payouts every session. \nJoin “Chelsea’s Bingo” on facebook for updated information and special events.
URL:https://chelseahutchisonfoundation.org/event/chelseas-bingo-thursday-nights-18/
LOCATION:The Turn of the Century Bingo Hall\, 1921 South Havana Street\, Aurora\, 80014\, United States
CATEGORIES:Bingo
ATTACH;FMTTYPE=image/jpeg:https://chelseahutchisonfoundation.org/wp-content/uploads/2022/08/3289_image_273517860_5133091926714503_6519717539184709591_n.jpg
ORGANIZER;CN="The Chelsea Hutchison Foundation":MAILTO:info@ChelseaHutchisonFoundation.org
END:VEVENT
BEGIN:VEVENT
DTSTART;TZID=America/New_York:20260215T183000
DTEND;TZID=America/New_York:20260215T203000
DTSTAMP:20260421T100648
CREATED:20230209T012419Z
LAST-MODIFIED:20251118T223724Z
UID:3445-1771180200-1771187400@chelseahutchisonfoundation.org
SUMMARY:Chelsea's Bingo - Sunday Night
DESCRIPTION:Join us every Sunday night at 6:30 for Chelsea’s Bingo and win big.  Doors open at 4:30\, games start at 6:30. $2\,000 in bingo payouts every session. \nJoin “Chelsea’s Bingo” on facebook for updated information and special events.
URL:https://chelseahutchisonfoundation.org/event/chelseas-bingo-sunday-night-2/
LOCATION:The Turn of the Century Bingo Hall\, 1921 South Havana Street\, Aurora\, 80014\, United States
CATEGORIES:Bingo
ATTACH;FMTTYPE=image/jpeg:https://chelseahutchisonfoundation.org/wp-content/uploads/2022/08/3289_image_273517860_5133091926714503_6519717539184709591_n.jpg
ORGANIZER;CN="The Chelsea Hutchison Foundation":MAILTO:info@ChelseaHutchisonFoundation.org
END:VEVENT
BEGIN:VEVENT
DTSTART;TZID=America/Denver:20260217T113000
DTEND;TZID=America/Denver:20260217T133000
DTSTAMP:20260421T100648
CREATED:20251118T231546Z
LAST-MODIFIED:20251118T231546Z
UID:3655-1771327800-1771335000@chelseahutchisonfoundation.org
SUMMARY:Chelsea's Bingo - Tuesday Morning
DESCRIPTION:Join us every Tuesday morning at 11:30 AM for Chelsea’s Bingo and win big.  Doors open at 9:30\, games start at 11:30. $2\,000 in bingo payouts every session. \nJoin “Chelsea’s Bingo” on facebook for updated information and special events.
URL:https://chelseahutchisonfoundation.org/event/chelseas-bingo-tuesday-morning-11/
LOCATION:The Turn of the Century Bingo Hall\, 1921 South Havana Street\, Aurora\, 80014\, United States
CATEGORIES:Bingo
ATTACH;FMTTYPE=image/jpeg:https://chelseahutchisonfoundation.org/wp-content/uploads/2025/11/Chelseas-Bingo-logo.jpg
ORGANIZER;CN="The Chelsea Hutchison Foundation":MAILTO:info@ChelseaHutchisonFoundation.org
END:VEVENT
BEGIN:VEVENT
DTSTART;TZID=America/New_York:20260222T113000
DTEND;TZID=America/New_York:20260222T133000
DTSTAMP:20260421T100648
CREATED:20230208T230949Z
LAST-MODIFIED:20251118T223659Z
UID:3425-1771759800-1771767000@chelseahutchisonfoundation.org
SUMMARY:Chelsea's Bingo - Sunday Morning
DESCRIPTION:Join us every Sunday morning at 11:30 AM for Chelsea’s Bingo and win big.  Doors open at 9:30\, games start at 11:30. $2\,000 in bingo payouts every session. \nJoin “Chelsea’s Bingo” on facebook for updated information and special events.
URL:https://chelseahutchisonfoundation.org/event/chelseas-bingo-sunday-morning-7/
LOCATION:The Turn of the Century Bingo Hall\, 1921 South Havana Street\, Aurora\, 80014\, United States
CATEGORIES:Bingo
ATTACH;FMTTYPE=image/jpeg:https://chelseahutchisonfoundation.org/wp-content/uploads/2022/08/3289_image_273517860_5133091926714503_6519717539184709591_n.jpg
ORGANIZER;CN="The Chelsea Hutchison Foundation":MAILTO:info@ChelseaHutchisonFoundation.org
END:VEVENT
BEGIN:VEVENT
DTSTART;TZID=America/New_York:20260222T183000
DTEND;TZID=America/New_York:20260222T203000
DTSTAMP:20260421T100648
CREATED:20220819T191215Z
LAST-MODIFIED:20251118T223632Z
UID:3342-1771785000-1771792200@chelseahutchisonfoundation.org
SUMMARY:Chelsea's Bingo - Sunday Night
DESCRIPTION:Join us every Sunday night at 6:30 for Chelsea’s Bingo and win big.  Doors open at 4:30\, games start at 6:30. $2\,000 in bingo payouts every session. \nJoin “Chelsea’s Bingo” on facebook for updated information and special events.
URL:https://chelseahutchisonfoundation.org/event/chelseas-bingo-21/
LOCATION:The Turn of the Century Bingo Hall\, 1921 South Havana Street\, Aurora\, 80014\, United States
CATEGORIES:Bingo
ATTACH;FMTTYPE=image/jpeg:https://chelseahutchisonfoundation.org/wp-content/uploads/2022/08/3289_image_273517860_5133091926714503_6519717539184709591_n.jpg
ORGANIZER;CN="The Chelsea Hutchison Foundation":MAILTO:info@ChelseaHutchisonFoundation.org
END:VEVENT
BEGIN:VEVENT
DTSTART;TZID=America/Denver:20260224T113000
DTEND;TZID=America/Denver:20260224T133000
DTSTAMP:20260421T100648
CREATED:20251118T231656Z
LAST-MODIFIED:20251118T231656Z
UID:3656-1771932600-1771939800@chelseahutchisonfoundation.org
SUMMARY:Chelsea's Bingo - Tuesday Morning
DESCRIPTION:Join us every Tuesday morning at 11:30 AM for Chelsea’s Bingo and win big.  Doors open at 9:30\, games start at 11:30. $2\,000 in bingo payouts every session. \nJoin “Chelsea’s Bingo” on facebook for updated information and special events.
URL:https://chelseahutchisonfoundation.org/event/chelseas-bingo-tuesday-morning-12/
LOCATION:The Turn of the Century Bingo Hall\, 1921 South Havana Street\, Aurora\, 80014\, United States
CATEGORIES:Bingo
ATTACH;FMTTYPE=image/jpeg:https://chelseahutchisonfoundation.org/wp-content/uploads/2025/11/Chelseas-Bingo-logo.jpg
ORGANIZER;CN="The Chelsea Hutchison Foundation":MAILTO:info@ChelseaHutchisonFoundation.org
END:VEVENT
END:VCALENDAR