BEGIN:VCALENDAR
VERSION:2.0
PRODID:-//Chelsea Hutchison Foundation - ECPv6.15.18//NONSGML v1.0//EN
CALSCALE:GREGORIAN
METHOD:PUBLISH
X-ORIGINAL-URL:https://chelseahutchisonfoundation.org
X-WR-CALDESC:Events for Chelsea Hutchison Foundation
REFRESH-INTERVAL;VALUE=DURATION:PT1H
X-Robots-Tag:noindex
X-PUBLISHED-TTL:PT1H
BEGIN:VTIMEZONE
TZID:America/New_York
BEGIN:DAYLIGHT
TZOFFSETFROM:-0500
TZOFFSETTO:-0400
TZNAME:EDT
DTSTART:20220313T070000
END:DAYLIGHT
BEGIN:STANDARD
TZOFFSETFROM:-0400
TZOFFSETTO:-0500
TZNAME:EST
DTSTART:20221106T060000
END:STANDARD
BEGIN:DAYLIGHT
TZOFFSETFROM:-0500
TZOFFSETTO:-0400
TZNAME:EDT
DTSTART:20230312T070000
END:DAYLIGHT
BEGIN:STANDARD
TZOFFSETFROM:-0400
TZOFFSETTO:-0500
TZNAME:EST
DTSTART:20231105T060000
END:STANDARD
BEGIN:DAYLIGHT
TZOFFSETFROM:-0500
TZOFFSETTO:-0400
TZNAME:EDT
DTSTART:20240310T070000
END:DAYLIGHT
BEGIN:STANDARD
TZOFFSETFROM:-0400
TZOFFSETTO:-0500
TZNAME:EST
DTSTART:20241103T060000
END:STANDARD
END:VTIMEZONE
BEGIN:VEVENT
DTSTART;TZID=America/New_York:20231008T113000
DTEND;TZID=America/New_York:20231008T133000
DTSTAMP:20260420T042810
CREATED:20230208T231759Z
LAST-MODIFIED:20230209T025548Z
UID:3429-1696764600-1696771800@chelseahutchisonfoundation.org
SUMMARY:Chelsea's Bingo - Sunday Morning
DESCRIPTION:Join us at 11:30 AM for Chelsea’s Bingo and win big.  Doors open at 9:30\, games start at 11:30. $2\,000 in bingo payouts every session.
URL:https://chelseahutchisonfoundation.org/event/chelseas-bingo-sunday-morning-11/
LOCATION:The Turn of the Century Bingo Hall\, 1921 South Havana Street\, Aurora\, 80014\, United States
CATEGORIES:Bingo
ATTACH;FMTTYPE=image/jpeg:https://chelseahutchisonfoundation.org/wp-content/uploads/2022/08/3289_image_273517860_5133091926714503_6519717539184709591_n.jpg
ORGANIZER;CN="The Chelsea Hutchison Foundation":MAILTO:info@ChelseaHutchisonFoundation.org
END:VEVENT
BEGIN:VEVENT
DTSTART;TZID=America/New_York:20231008T183000
DTEND;TZID=America/New_York:20231008T203000
DTSTAMP:20260420T042810
CREATED:20220819T190922Z
LAST-MODIFIED:20230209T024302Z
UID:3327-1696789800-1696797000@chelseahutchisonfoundation.org
SUMMARY:Chelsea's Bingo - Sunday Night
DESCRIPTION:Join us every Sunday night at 6:30 PM at Turn of the Century Bingo located at 1921 South Havana\, Aurora\, CO for Chelsea’s Bingo. $2000 in payouts each night ($100-$1000). The concession stand has wonderful\, very reasonably priced food\, so join us for dinner and some fun! Nightly drawings.
URL:https://chelseahutchisonfoundation.org/event/chelseas-bingo-14/
LOCATION:The Turn of the Century Bingo Hall\, 1921 South Havana Street\, Aurora\, 80014\, United States
CATEGORIES:Bingo
ATTACH;FMTTYPE=image/jpeg:https://chelseahutchisonfoundation.org/wp-content/uploads/2022/08/3289_image_273517860_5133091926714503_6519717539184709591_n.jpg
ORGANIZER;CN="The Chelsea Hutchison Foundation":MAILTO:info@ChelseaHutchisonFoundation.org
END:VEVENT
BEGIN:VEVENT
DTSTART;TZID=America/New_York:20231015T113000
DTEND;TZID=America/New_York:20231015T133000
DTSTAMP:20260420T042810
CREATED:20230209T015537Z
LAST-MODIFIED:20230528T142621Z
UID:3455-1697369400-1697376600@chelseahutchisonfoundation.org
SUMMARY:Chelsea's Bingo - Sunday Morning
DESCRIPTION:Join us tonight at 11:30 AM for Chelsea’s Bingo and win big.  Doors open at 10:00 AM\, games start at 11:30 AM. $2\,000 in bingo payouts every session.
URL:https://chelseahutchisonfoundation.org/event/chelseas-bingo-thursday-night/
LOCATION:The Turn of the Century Bingo Hall\, 1921 South Havana Street\, Aurora\, 80014\, United States
CATEGORIES:Bingo
ATTACH;FMTTYPE=image/jpeg:https://chelseahutchisonfoundation.org/wp-content/uploads/2022/08/3289_image_273517860_5133091926714503_6519717539184709591_n.jpg
ORGANIZER;CN="The Chelsea Hutchison Foundation":MAILTO:info@ChelseaHutchisonFoundation.org
END:VEVENT
BEGIN:VEVENT
DTSTART;TZID=America/New_York:20231015T183000
DTEND;TZID=America/New_York:20231015T203000
DTSTAMP:20260420T042810
CREATED:20220819T190923Z
LAST-MODIFIED:20230209T024323Z
UID:3330-1697394600-1697401800@chelseahutchisonfoundation.org
SUMMARY:Chelsea's Bingo - Sunday Night
DESCRIPTION:Join us every Sunday night at 6:30 PM at Turn of the Century Bingo located at 1921 South Havana\, Aurora\, CO for Chelsea’s Bingo. $2000 in payouts each night ($100-$1000). The concession stand has wonderful\, very reasonably priced food\, so join us for dinner and some fun! Nightly drawings.
URL:https://chelseahutchisonfoundation.org/event/chelseas-bingo-15/
LOCATION:The Turn of the Century Bingo Hall\, 1921 South Havana Street\, Aurora\, 80014\, United States
CATEGORIES:Bingo
ATTACH;FMTTYPE=image/jpeg:https://chelseahutchisonfoundation.org/wp-content/uploads/2022/08/3289_image_273517860_5133091926714503_6519717539184709591_n.jpg
ORGANIZER;CN="The Chelsea Hutchison Foundation":MAILTO:info@ChelseaHutchisonFoundation.org
END:VEVENT
BEGIN:VEVENT
DTSTART;TZID=America/New_York:20231022T113000
DTEND;TZID=America/New_York:20231022T133000
DTSTAMP:20260420T042810
CREATED:20230208T232440Z
LAST-MODIFIED:20230209T025619Z
UID:3432-1697974200-1697981400@chelseahutchisonfoundation.org
SUMMARY:Chelsea's Bingo - Sunday Morning
DESCRIPTION:Join us at 11:30 AM for Chelsea’s Bingo and win big.  Doors open at 9:30\, games start at 11:30. $2\,000 in bingo payouts every session.
URL:https://chelseahutchisonfoundation.org/event/chelseas-bingo-sunday-morning-14/
LOCATION:The Turn of the Century Bingo Hall\, 1921 South Havana Street\, Aurora\, 80014\, United States
CATEGORIES:Bingo
ATTACH;FMTTYPE=image/jpeg:https://chelseahutchisonfoundation.org/wp-content/uploads/2022/08/3289_image_273517860_5133091926714503_6519717539184709591_n.jpg
ORGANIZER;CN="The Chelsea Hutchison Foundation":MAILTO:info@ChelseaHutchisonFoundation.org
END:VEVENT
BEGIN:VEVENT
DTSTART;TZID=America/New_York:20231022T183000
DTEND;TZID=America/New_York:20231022T203000
DTSTAMP:20260420T042810
CREATED:20220819T191013Z
LAST-MODIFIED:20230209T024347Z
UID:3332-1697999400-1698006600@chelseahutchisonfoundation.org
SUMMARY:Chelsea's Bingo - Sunday Night
DESCRIPTION:Join us every Sunday night at 6:30 PM at Turn of the Century Bingo located at 1921 South Havana\, Aurora\, CO for Chelsea’s Bingo. $2000 in payouts each night ($100-$1000). The concession stand has wonderful\, very reasonably priced food\, so join us for dinner and some fun! Nightly drawings.
URL:https://chelseahutchisonfoundation.org/event/chelseas-bingo-16/
LOCATION:The Turn of the Century Bingo Hall\, 1921 South Havana Street\, Aurora\, 80014\, United States
CATEGORIES:Bingo
ATTACH;FMTTYPE=image/jpeg:https://chelseahutchisonfoundation.org/wp-content/uploads/2022/08/3289_image_273517860_5133091926714503_6519717539184709591_n.jpg
ORGANIZER;CN="The Chelsea Hutchison Foundation":MAILTO:info@ChelseaHutchisonFoundation.org
END:VEVENT
BEGIN:VEVENT
DTSTART;TZID=America/New_York:20231029T113000
DTEND;TZID=America/New_York:20231029T133000
DTSTAMP:20260420T042810
CREATED:20230209T015714Z
LAST-MODIFIED:20230528T142738Z
UID:3456-1698579000-1698586200@chelseahutchisonfoundation.org
SUMMARY:Chelsea's Bingo - Sunday Morning
DESCRIPTION:Join us tonight at 11:30 AM for Chelsea’s Bingo and win big.  Doors open at 10:00 AM\, games start at 11:30 AM. $2\,000 in bingo payouts every session.
URL:https://chelseahutchisonfoundation.org/event/chelseas-bingo-thursday-night-2/
LOCATION:The Turn of the Century Bingo Hall\, 1921 South Havana Street\, Aurora\, 80014\, United States
CATEGORIES:Bingo
ATTACH;FMTTYPE=image/jpeg:https://chelseahutchisonfoundation.org/wp-content/uploads/2022/08/3289_image_273517860_5133091926714503_6519717539184709591_n.jpg
ORGANIZER;CN="The Chelsea Hutchison Foundation":MAILTO:info@ChelseaHutchisonFoundation.org
END:VEVENT
BEGIN:VEVENT
DTSTART;TZID=America/New_York:20231029T183000
DTEND;TZID=America/New_York:20231029T203000
DTSTAMP:20260420T042810
CREATED:20220819T191015Z
LAST-MODIFIED:20230209T024404Z
UID:3334-1698604200-1698611400@chelseahutchisonfoundation.org
SUMMARY:Chelsea's Bingo - Sunday Night
DESCRIPTION:Join us every Sunday night at 6:30 PM at Turn of the Century Bingo located at 1921 South Havana\, Aurora\, CO for Chelsea’s Bingo. $2000 in payouts each night ($100-$1000). The concession stand has wonderful\, very reasonably priced food\, so join us for dinner and some fun! Nightly drawings.
URL:https://chelseahutchisonfoundation.org/event/chelseas-bingo-17/
LOCATION:The Turn of the Century Bingo Hall\, 1921 South Havana Street\, Aurora\, 80014\, United States
CATEGORIES:Bingo
ATTACH;FMTTYPE=image/jpeg:https://chelseahutchisonfoundation.org/wp-content/uploads/2022/08/3289_image_273517860_5133091926714503_6519717539184709591_n.jpg
ORGANIZER;CN="The Chelsea Hutchison Foundation":MAILTO:info@ChelseaHutchisonFoundation.org
END:VEVENT
END:VCALENDAR